BEGIN:VCALENDAR
VERSION:2.0
PRODID:-//Schulseelsorge - ECPv5.5.0.1//NONSGML v1.0//EN
CALSCALE:GREGORIAN
METHOD:PUBLISH
X-WR-CALNAME:Schulseelsorge
X-ORIGINAL-URL:https://fbs-schulseelsorge.de
X-WR-CALDESC:Veranstaltungen fÃ¼r Schulseelsorge
BEGIN:VTIMEZONE
TZID:Europe/Berlin
BEGIN:DAYLIGHT
TZOFFSETFROM:+0100
TZOFFSETTO:+0200
TZNAME:CEST
DTSTART:20220327T010000
END:DAYLIGHT
BEGIN:STANDARD
TZOFFSETFROM:+0200
TZOFFSETTO:+0100
TZNAME:CET
DTSTART:20221030T010000
END:STANDARD
END:VTIMEZONE
BEGIN:VEVENT
DTSTART;TZID=Europe/Berlin:20220302T095000
DTEND;TZID=Europe/Berlin:20220302T103500
DTSTAMP:20260421T155542
CREATED:20220223T181547Z
LAST-MODIFIED:20220223T181547Z
UID:1381-1646214600-1646217300@fbs-schulseelsorge.de
SUMMARY:Aschermittwochsgottesdienst - 3. Stunde
DESCRIPTION:&#8230;fÃ¼r die Klassen:\n\n\n\nQ1\nQ1\nQ1\nQ1\n\n\nEF\nEF\nEF\n 
URL:https://fbs-schulseelsorge.de/event/aschermittwochsgottesdienst-3-stunde/
LOCATION:Aula der FÃ¼rstenbergschule\, Aula der FBS\, Brookweg 7. Recke\, Deutschland
END:VEVENT
END:VCALENDAR