BEGIN:VCALENDAR
VERSION:2.0
PRODID:-//Schulseelsorge - ECPv5.5.0.1//NONSGML v1.0//EN
CALSCALE:GREGORIAN
METHOD:PUBLISH
X-WR-CALNAME:Schulseelsorge
X-ORIGINAL-URL:https://fbs-schulseelsorge.de
X-WR-CALDESC:Veranstaltungen für Schulseelsorge
BEGIN:VTIMEZONE
TZID:Europe/Berlin
BEGIN:DAYLIGHT
TZOFFSETFROM:+0100
TZOFFSETTO:+0200
TZNAME:CEST
DTSTART:20210328T010000
END:DAYLIGHT
BEGIN:STANDARD
TZOFFSETFROM:+0200
TZOFFSETTO:+0100
TZNAME:CET
DTSTART:20211031T010000
END:STANDARD
END:VTIMEZONE
BEGIN:VEVENT
DTSTART;TZID=Europe/Berlin:20211104T075500
DTEND;TZID=Europe/Berlin:20211104T084000
DTSTAMP:20260421T115136
CREATED:20210913T154003Z
LAST-MODIFIED:20210914T185536Z
UID:1111-1636012500-1636015200@fbs-schulseelsorge.de
SUMMARY:Jahrgangsgottesdienst für alle 5. Klassen der Realschule
DESCRIPTION:&#8230; vorbereitet von der 5c mit Frau Schulte-Kohne
URL:https://fbs-schulseelsorge.de/event/jahrgangsgottesdienst-fuer-alle-5-klassen-2-2/
LOCATION:Arche der Fürstenbergschulen\, Arche der FBS\, Brookweg 7\, Recke
END:VEVENT
END:VCALENDAR