BEGIN:VCALENDAR
VERSION:2.0
PRODID:-//Schulseelsorge - ECPv5.5.0.1//NONSGML v1.0//EN
CALSCALE:GREGORIAN
METHOD:PUBLISH
X-WR-CALNAME:Schulseelsorge
X-ORIGINAL-URL:https://fbs-schulseelsorge.de
X-WR-CALDESC:Veranstaltungen für Schulseelsorge
BEGIN:VTIMEZONE
TZID:Europe/Berlin
BEGIN:DAYLIGHT
TZOFFSETFROM:+0100
TZOFFSETTO:+0200
TZNAME:CEST
DTSTART:20220327T010000
END:DAYLIGHT
BEGIN:STANDARD
TZOFFSETFROM:+0200
TZOFFSETTO:+0100
TZNAME:CET
DTSTART:20221030T010000
END:STANDARD
END:VTIMEZONE
BEGIN:VEVENT
DTSTART;TZID=Europe/Berlin:20220609T075500
DTEND;TZID=Europe/Berlin:20220609T084000
DTSTAMP:20260420T105213
CREATED:20220307T141042Z
LAST-MODIFIED:20220529T154521Z
UID:1500-1654761300-1654764000@fbs-schulseelsorge.de
SUMMARY:Jahrgangsgottesdienst für alle 5. Klassen des Gymnasiums
DESCRIPTION:&#8230; vorbereitet von Herrn van Briel. Die Lieder und Fürbitten bereiten die Schüler der 5a1 vor.
URL:https://fbs-schulseelsorge.de/event/jahrgangsgottesdienst-fuer-alle-5-klassen-8/
LOCATION:Arche der Fürstenbergschulen\, Arche der FBS\, Brookweg 7\, Recke
END:VEVENT
END:VCALENDAR