BEGIN:VCALENDAR
VERSION:2.0
PRODID:-//Schulseelsorge - ECPv5.5.0.1//NONSGML v1.0//EN
CALSCALE:GREGORIAN
METHOD:PUBLISH
X-WR-CALNAME:Schulseelsorge
X-ORIGINAL-URL:https://fbs-schulseelsorge.de
X-WR-CALDESC:Veranstaltungen für Schulseelsorge
BEGIN:VTIMEZONE
TZID:Europe/Berlin
BEGIN:DAYLIGHT
TZOFFSETFROM:+0100
TZOFFSETTO:+0200
TZNAME:CEST
DTSTART:20220327T010000
END:DAYLIGHT
BEGIN:STANDARD
TZOFFSETFROM:+0200
TZOFFSETTO:+0100
TZNAME:CET
DTSTART:20221030T010000
END:STANDARD
END:VTIMEZONE
BEGIN:VEVENT
DTSTART;TZID=Europe/Berlin:20220224T075500
DTEND;TZID=Europe/Berlin:20220224T084000
DTSTAMP:20260421T161448
CREATED:20210913T155443Z
LAST-MODIFIED:20210914T184757Z
UID:1133-1645689300-1645692000@fbs-schulseelsorge.de
SUMMARY:Jahrgangsgottesdienst für alle 6. Klassen
DESCRIPTION:&#8230; vorbereitet von der 6b mit Frau Marks
URL:https://fbs-schulseelsorge.de/event/jahrgangsgottesdienst-fuer-alle-6-klassen-2/
LOCATION:Arche der Fürstenbergschulen\, Arche der FBS\, Brookweg 7\, Recke
END:VEVENT
END:VCALENDAR