BEGIN:VCALENDAR
VERSION:2.0
PRODID:-//Schulseelsorge - ECPv5.5.0.1//NONSGML v1.0//EN
CALSCALE:GREGORIAN
METHOD:PUBLISH
X-WR-CALNAME:Schulseelsorge
X-ORIGINAL-URL:https://fbs-schulseelsorge.de
X-WR-CALDESC:Veranstaltungen für Schulseelsorge
BEGIN:VTIMEZONE
TZID:Europe/Berlin
BEGIN:DAYLIGHT
TZOFFSETFROM:+0100
TZOFFSETTO:+0200
TZNAME:CEST
DTSTART:20220327T010000
END:DAYLIGHT
BEGIN:STANDARD
TZOFFSETFROM:+0200
TZOFFSETTO:+0100
TZNAME:CET
DTSTART:20221030T010000
END:STANDARD
END:VTIMEZONE
BEGIN:VEVENT
DTSTART;TZID=Europe/Berlin:20220912T075500
DTEND;TZID=Europe/Berlin:20220912T084000
DTSTAMP:20260423T060228
CREATED:20220822T143648Z
LAST-MODIFIED:20220822T143648Z
UID:1739-1662969300-1662972000@fbs-schulseelsorge.de
SUMMARY:Jahrgangsgottesdienst für alle 8. Klassen der Realschule
DESCRIPTION:&#8230; vorbereitet von den Klassen 8b und 8c mit Herrn van Briel.
URL:https://fbs-schulseelsorge.de/event/jahrgangsgottesdienst-fuer-alle-8-klassen-der-realschule/
LOCATION:Arche der Fürstenbergschulen\, Arche der FBS\, Brookweg 7\, Recke
END:VEVENT
END:VCALENDAR