BEGIN:VCALENDAR
VERSION:2.0
PRODID:-//Schulseelsorge - ECPv5.5.0.1//NONSGML v1.0//EN
CALSCALE:GREGORIAN
METHOD:PUBLISH
X-WR-CALNAME:Schulseelsorge
X-ORIGINAL-URL:https://fbs-schulseelsorge.de
X-WR-CALDESC:Veranstaltungen für Schulseelsorge
BEGIN:VTIMEZONE
TZID:Europe/Berlin
BEGIN:DAYLIGHT
TZOFFSETFROM:+0100
TZOFFSETTO:+0200
TZNAME:CEST
DTSTART:20210328T010000
END:DAYLIGHT
BEGIN:STANDARD
TZOFFSETFROM:+0200
TZOFFSETTO:+0100
TZNAME:CET
DTSTART:20211031T010000
END:STANDARD
END:VTIMEZONE
BEGIN:VEVENT
DTSTART;TZID=Europe/Berlin:20211213T075500
DTEND;TZID=Europe/Berlin:20211213T084000
DTSTAMP:20260420T204440
CREATED:20210913T151753Z
LAST-MODIFIED:20210914T185210Z
UID:1085-1639382100-1639384800@fbs-schulseelsorge.de
SUMMARY:Jahrgangsgottesdienst für die 7a2 und 7a1
DESCRIPTION:&#8230; vorbereitet von der 7a2 mit Frau Genuit
URL:https://fbs-schulseelsorge.de/event/jahrgangsgottesdienst-fuer-die-7a2-und-7a1/
LOCATION:Arche der Fürstenbergschulen\, Arche der FBS\, Brookweg 7\, Recke
END:VEVENT
END:VCALENDAR