BEGIN:VCALENDAR
VERSION:2.0
PRODID:-//Schulseelsorge - ECPv5.5.0.1//NONSGML v1.0//EN
CALSCALE:GREGORIAN
METHOD:PUBLISH
X-WR-CALNAME:Schulseelsorge
X-ORIGINAL-URL:https://fbs-schulseelsorge.de
X-WR-CALDESC:Veranstaltungen für Schulseelsorge
BEGIN:VTIMEZONE
TZID:Europe/Berlin
BEGIN:DAYLIGHT
TZOFFSETFROM:+0100
TZOFFSETTO:+0200
TZNAME:CEST
DTSTART:20210328T010000
END:DAYLIGHT
BEGIN:STANDARD
TZOFFSETFROM:+0200
TZOFFSETTO:+0100
TZNAME:CET
DTSTART:20211031T010000
END:STANDARD
END:VTIMEZONE
BEGIN:VEVENT
DTSTART;TZID=Europe/Berlin:20211209T075500
DTEND;TZID=Europe/Berlin:20211209T084000
DTSTAMP:20260420T221718
CREATED:20210913T154628Z
LAST-MODIFIED:20210914T185227Z
UID:1121-1639036500-1639039200@fbs-schulseelsorge.de
SUMMARY:Jahrgangsgottesdienst für die 7c und 7b
DESCRIPTION:&#8230; vorbereitet von der 7c mit Frau Marks
URL:https://fbs-schulseelsorge.de/event/jahrgangsgottesdienst-fuer-die-7c-und-7b/
LOCATION:Arche der Fürstenbergschulen\, Arche der FBS\, Brookweg 7\, Recke
END:VEVENT
END:VCALENDAR