BEGIN:VCALENDAR
VERSION:2.0
PRODID:-//Schulseelsorge - ECPv5.5.0.1//NONSGML v1.0//EN
CALSCALE:GREGORIAN
METHOD:PUBLISH
X-WR-CALNAME:Schulseelsorge
X-ORIGINAL-URL:https://fbs-schulseelsorge.de
X-WR-CALDESC:Veranstaltungen für Schulseelsorge
BEGIN:VTIMEZONE
TZID:Europe/Berlin
BEGIN:DAYLIGHT
TZOFFSETFROM:+0100
TZOFFSETTO:+0200
TZNAME:CEST
DTSTART:20210328T010000
END:DAYLIGHT
BEGIN:STANDARD
TZOFFSETFROM:+0200
TZOFFSETTO:+0100
TZNAME:CET
DTSTART:20211031T010000
END:STANDARD
END:VTIMEZONE
BEGIN:VEVENT
DTSTART;TZID=Europe/Berlin:20211206T075500
DTEND;TZID=Europe/Berlin:20211206T083000
DTSTAMP:20260421T000500
CREATED:20210913T151337Z
LAST-MODIFIED:20211115T150953Z
UID:1079-1638777300-1638779400@fbs-schulseelsorge.de
SUMMARY:Jahrgangsstufengottesdienst für die EF
DESCRIPTION:&#8230; vorbereitet von Pfarrer van Briel
URL:https://fbs-schulseelsorge.de/event/jahrgangsstufengottesdiesnt-fuer-die-ef-kurse-d1-mb-und-d2-eh/
LOCATION:Arche der Fürstenbergschulen\, Arche der FBS\, Brookweg 7\, Recke
END:VEVENT
END:VCALENDAR