BEGIN:VCALENDAR
VERSION:2.0
PRODID:-//Schulseelsorge - ECPv5.5.0.1//NONSGML v1.0//EN
CALSCALE:GREGORIAN
METHOD:PUBLISH
X-WR-CALNAME:Schulseelsorge
X-ORIGINAL-URL:https://fbs-schulseelsorge.de
X-WR-CALDESC:Veranstaltungen für Schulseelsorge
BEGIN:VTIMEZONE
TZID:Europe/Berlin
BEGIN:DAYLIGHT
TZOFFSETFROM:+0100
TZOFFSETTO:+0200
TZNAME:CEST
DTSTART:20210328T010000
END:DAYLIGHT
BEGIN:STANDARD
TZOFFSETFROM:+0200
TZOFFSETTO:+0100
TZNAME:CET
DTSTART:20211031T010000
END:STANDARD
END:VTIMEZONE
BEGIN:VEVENT
DTSTART;TZID=Europe/Berlin:20210920T090000
DTEND;TZID=Europe/Berlin:20210920T163000
DTSTAMP:20260422T070414
CREATED:20210630T111127Z
LAST-MODIFIED:20210630T111127Z
UID:1009-1632128400-1632155400@fbs-schulseelsorge.de
SUMMARY:Oase-Tag für die Kollegien vom Gymnasium und Realschule
DESCRIPTION:&#8230;für die Schüler beider Schulformen ist unterrichtsfrei (Studientag zuhause).
URL:https://fbs-schulseelsorge.de/event/oase-tag-fuer-die-kollegien-vom-gymnasium-und-realschule/
END:VEVENT
END:VCALENDAR