BEGIN:VCALENDAR
VERSION:2.0
PRODID:-//Schulseelsorge - ECPv5.5.0.1//NONSGML v1.0//EN
CALSCALE:GREGORIAN
METHOD:PUBLISH
X-WR-CALNAME:Schulseelsorge
X-ORIGINAL-URL:https://fbs-schulseelsorge.de
X-WR-CALDESC:Veranstaltungen für Schulseelsorge
BEGIN:VTIMEZONE
TZID:Europe/Berlin
BEGIN:DAYLIGHT
TZOFFSETFROM:+0100
TZOFFSETTO:+0200
TZNAME:CEST
DTSTART:20220327T010000
END:DAYLIGHT
BEGIN:STANDARD
TZOFFSETFROM:+0200
TZOFFSETTO:+0100
TZNAME:CET
DTSTART:20221030T010000
END:STANDARD
END:VTIMEZONE
BEGIN:VEVENT
DTSTART;TZID=Europe/Berlin:20220919T090000
DTEND;TZID=Europe/Berlin:20220919T160000
DTSTAMP:20260423T091000
CREATED:20220826T223739Z
LAST-MODIFIED:20220826T223739Z
UID:1786-1663578000-1663603200@fbs-schulseelsorge.de
SUMMARY:Oasetag für das Kollegium der Realschule
DESCRIPTION:Beginn in Halverde\, Vortrag und Gottesdienst in Voltlage\, Abschluss auf Hof Egbers
URL:https://fbs-schulseelsorge.de/event/oasetag-fuer-das-kollegium-der-realschule/
END:VEVENT
END:VCALENDAR